BEGIN:VCALENDAR
VERSION:2.0
PRODID:-//wp-events-plugin.com//7.2.2.1//EN
TZID:America/Chicago
X-WR-TIMEZONE:America/Chicago
BEGIN:VEVENT
UID:15@voicescac.org
DTSTART:20220402T190000Z
DTEND:20220402T210000Z
DTSTAMP:20220304T014216Z
URL:https://voicescac.org/events/chance-to-dance/
SUMMARY:Chance to Dance
DESCRIPTION:\n\n\n\n[dt_default_button link="https://voicescac.org/wp-conte
 nt/uploads/2022/01/ACTD_2022_Poster.pdf" button_alignment="default" animat
 ion="fadeIn" size="medium" default_btn_bg_color="" bg_hover_color="" text_
 color="" text_hover_color="" icon="fa fa-chevron-circle-right" icon_align=
 "left" target="_blank" margin-left="50px"]Sign Up Today[/dt_default_button
 ] [dt_default_button link="https://voicescac.org/wp-content/uploads/2022/0
 1/ACTD-Sponsorship-Form-22.pdf" button_alignment="default" animation="fade
 In" size="medium" default_btn_bg_color="" bg_hover_color="" text_color="" 
 text_hover_color="" icon="fa fa-chevron-circle-right" icon_align="left" ta
 rget="_blank" margin-left="50px"]Sponsorship Opportunities[/dt_default_but
 ton]
ATTACH;FMTTYPE=image/jpeg:https://voicescac.org/wp-content/uploads/2022/03
 /ACTD_2022_Poster.jpg
END:VEVENT
BEGIN:VEVENT
UID:12@voicescac.org
DTSTART;VALUE=DATE:20221015
DTEND;VALUE=DATE:20221016
DTSTAMP:20220106T032603Z
URL:https://voicescac.org/events/over-the-edge/
SUMMARY:Over the Edge
DESCRIPTION:[dt_default_button link="https://give.overtheedge.events/voices
 cac2022?ref=ab_a7LnV4_ab_0j0iRksmldD0j0iRksmldD" button_alignment="default
 " animation="fadeIn" size="medium" default_btn_bg_color="" bg_hover_color=
 "" text_color="" text_hover_color="" icon="fa fa-chevron-circle-right" ico
 n_align="left" target="_blank" margin-left="50px"]Sign Up Today[/dt_defaul
 t_button] [dt_default_button link="https://voicescac.org/wp-content/upload
 s/2021/11/Sponsorship-Opportunities.pdf" button_alignment="default" animat
 ion="fadeIn" size="medium" default_btn_bg_color="" bg_hover_color="" text_
 color="" text_hover_color="" icon="fa fa-chevron-circle-right" icon_align=
 "left" target="_blank" margin-left="50px"]Sponsorship Opportunities[/dt_de
 fault_button]
ATTACH;FMTTYPE=image/jpeg:https://voicescac.org/wp-content/uploads/2021/11
 /OTE_logo_color-C4-version-e1641417806372.jpg
END:VEVENT
BEGIN:VEVENT
UID:16@voicescac.org
DTSTART;TZID=America/Chicago:20250717T180000
DTEND;TZID=America/Chicago:20250717T203000
DTSTAMP:20250430T190358Z
URL:https://voicescac.org/events/music-bingo/
SUMMARY:Music Bingo
DESCRIPTION:Join us for a fun night of Music Bingo - a fundraiser to benefi
 t Voices of Courage Child Advocacy Center.  Doors open at 6PM with Bingo t
 o start at 6:30.
ATTACH;FMTTYPE=image/jpeg:https://voicescac.org/wp-content/uploads/2025/04
 /Music-Bingo.png
LOCATION:Fraternal Order of Eagles Lodge\, 2004 North Belt Highway\, St. Jo
 seph\, Missouri\, 64506\, United States
X-APPLE-STRUCTURED-LOCATION;VALUE=URI;X-ADDRESS=2004 North Belt Highway\, S
 t. Joseph\, Missouri\, 64506\, United States;X-APPLE-RADIUS=100;X-TITLE=Fr
 aternal Order of Eagles Lodge:geo:0,0
END:VEVENT
BEGIN:VEVENT
UID:17@voicescac.org
DTSTART;TZID=America/Chicago:20250814T180000
DTEND;TZID=America/Chicago:20250814T203000
DTSTAMP:20250430T192241Z
URL:https://voicescac.org/events/bingo-night-at-the-eagles-lodge/
SUMMARY:Bingo Night at the Eagles Lodge
DESCRIPTION:Join us for our August Bingo Night - a fundraiser for Voices of
  Courage and held at the Eagles Lodge!
ATTACH;FMTTYPE=image/jpeg:https://voicescac.org/wp-content/uploads/2025/04
 /Bingo.Aug-14.png
LOCATION:Fraternal Order of Eagles Lodge\, 2004 North Belt Highway\, St. Jo
 seph\, Missouri\, 64506\, United States
X-APPLE-STRUCTURED-LOCATION;VALUE=URI;X-ADDRESS=2004 North Belt Highway\, S
 t. Joseph\, Missouri\, 64506\, United States;X-APPLE-RADIUS=100;X-TITLE=Fr
 aternal Order of Eagles Lodge:geo:0,0
END:VEVENT
BEGIN:VTIMEZONE
TZID:America/Chicago
X-LIC-LOCATION:America/Chicago
BEGIN:DAYLIGHT
DTSTART:20250309T030000
TZOFFSETFROM:-0600
TZOFFSETTO:-0500
TZNAME:CDT
END:DAYLIGHT
END:VTIMEZONE
END:VCALENDAR